BEGIN:VCALENDAR
VERSION:2.0
PRODID:-//OSAR Guatemala - ECPv6.15.12.2//NONSGML v1.0//EN
CALSCALE:GREGORIAN
METHOD:PUBLISH
X-WR-CALNAME:OSAR Guatemala
X-ORIGINAL-URL:https://osarguatemala.org
X-WR-CALDESC:Events for OSAR Guatemala
REFRESH-INTERVAL;VALUE=DURATION:PT1H
X-Robots-Tag:noindex
X-PUBLISHED-TTL:PT1H
BEGIN:VTIMEZONE
TZID:America/Guatemala
BEGIN:STANDARD
TZOFFSETFROM:-0600
TZOFFSETTO:-0600
TZNAME:CST
DTSTART:20180101T000000
END:STANDARD
END:VTIMEZONE
BEGIN:VTIMEZONE
TZID:America/Chicago
BEGIN:DAYLIGHT
TZOFFSETFROM:-0600
TZOFFSETTO:-0500
TZNAME:CDT
DTSTART:20170312T080000
END:DAYLIGHT
BEGIN:STANDARD
TZOFFSETFROM:-0500
TZOFFSETTO:-0600
TZNAME:CST
DTSTART:20171105T070000
END:STANDARD
BEGIN:DAYLIGHT
TZOFFSETFROM:-0600
TZOFFSETTO:-0500
TZNAME:CDT
DTSTART:20180311T080000
END:DAYLIGHT
BEGIN:STANDARD
TZOFFSETFROM:-0500
TZOFFSETTO:-0600
TZNAME:CST
DTSTART:20181104T070000
END:STANDARD
BEGIN:DAYLIGHT
TZOFFSETFROM:-0600
TZOFFSETTO:-0500
TZNAME:CDT
DTSTART:20190310T080000
END:DAYLIGHT
BEGIN:STANDARD
TZOFFSETFROM:-0500
TZOFFSETTO:-0600
TZNAME:CST
DTSTART:20191103T070000
END:STANDARD
END:VTIMEZONE
BEGIN:VEVENT
DTSTART;TZID=America/Guatemala:20190520T090000
DTEND;TZID=America/Guatemala:20190520T110000
DTSTAMP:20260423T093308
CREATED:20190517T182619Z
LAST-MODIFIED:20190517T182619Z
UID:862-1558342800-1558350000@osarguatemala.org
SUMMARY:Demandas de OSAR a los partidos políticos para garantizar la Maternidad Saludable y la salud reproductiva en Guatemala
DESCRIPTION:
URL:https://osarguatemala.org/evento/demandas-de-osar-a-los-partidos-politicos-para-garantizar-la-maternidad-saludable-y-la-salud-reproductiva-en-guatemala/
LOCATION:Hotel Pan American Salón Maya\, 9a calle 5-63 zona 1\, Guatemala\, Guatemala\, Guatemala
ORGANIZER;CN="OSAR":MAILTO:info@osarguatemala.org
END:VEVENT
BEGIN:VEVENT
DTSTART;TZID=America/Chicago:20180207T080000
DTEND;TZID=America/Chicago:20180208T160000
DTSTAMP:20260423T093308
CREATED:20180116T220703Z
LAST-MODIFIED:20180116T220703Z
UID:115-1517990400-1518105600@osarguatemala.org
SUMMARY:Taller de Planificación e Intercambio de Experiencias OSAR Juvenil - Programa de Empoderamiento
DESCRIPTION:
URL:https://osarguatemala.org/evento/taller-de-planificacion-e-intercambio-de-experiencias-osar-juvenil-programa-de-empoderamiento/
LOCATION:Casa de Retiros La Asunción\, Guatemala
ORGANIZER;CN="OSAR":MAILTO:info@osarguatemala.org
END:VEVENT
END:VCALENDAR